BEGIN:VCALENDAR
VERSION:2.0
PRODID:-//Colegio Altomonte - ECPv6.13.0//NONSGML v1.0//EN
CALSCALE:GREGORIAN
METHOD:PUBLISH
X-ORIGINAL-URL:https://www.colegioaltomonte.cl
X-WR-CALDESC:Eventos para Colegio Altomonte
REFRESH-INTERVAL;VALUE=DURATION:PT1H
X-Robots-Tag:noindex
X-PUBLISHED-TTL:PT1H
BEGIN:VTIMEZONE
TZID:America/Santiago
BEGIN:STANDARD
TZOFFSETFROM:-0300
TZOFFSETTO:-0400
TZNAME:-04
DTSTART:20200405T030000
END:STANDARD
BEGIN:DAYLIGHT
TZOFFSETFROM:-0400
TZOFFSETTO:-0300
TZNAME:-03
DTSTART:20200906T040000
END:DAYLIGHT
BEGIN:STANDARD
TZOFFSETFROM:-0300
TZOFFSETTO:-0400
TZNAME:-04
DTSTART:20210404T030000
END:STANDARD
BEGIN:DAYLIGHT
TZOFFSETFROM:-0400
TZOFFSETTO:-0300
TZNAME:-03
DTSTART:20210905T040000
END:DAYLIGHT
END:VTIMEZONE
BEGIN:VEVENT
DTSTART;VALUE=DATE:20210410
DTEND;VALUE=DATE:20210411
DTSTAMP:20260423T042145
CREATED:20210408T205137Z
LAST-MODIFIED:20210408T205343Z
UID:3481-1618012800-1618099199@www.colegioaltomonte.cl
SUMMARY:Jornada de Actividad Física y Salud Colaboradores/as
DESCRIPTION:Sábado Activo Laboral. \nDepartamento de EFI y Salud.
URL:https://www.colegioaltomonte.cl/event/actividad-fisica-laboral/
CATEGORIES:General
END:VEVENT
BEGIN:VEVENT
DTSTART;VALUE=DATE:20210405
DTEND;VALUE=DATE:20210406
DTSTAMP:20260423T042145
CREATED:20201129T010724Z
LAST-MODIFIED:20201129T010724Z
UID:2466-1617580800-1617667199@www.colegioaltomonte.cl
SUMMARY:Día Mundial de la Actividad Física
DESCRIPTION:
URL:https://www.colegioaltomonte.cl/event/dia-mundial-de-la-actividad-fisica/
CATEGORIES:Básica,General,Media,Prebásica
END:VEVENT
BEGIN:VEVENT
DTSTART;VALUE=DATE:20210403
DTEND;VALUE=DATE:20210404
DTSTAMP:20260423T042145
CREATED:20201129T223055Z
LAST-MODIFIED:20201129T223055Z
UID:2523-1617408000-1617494399@www.colegioaltomonte.cl
SUMMARY:Sábado Santo
DESCRIPTION:
URL:https://www.colegioaltomonte.cl/event/sabado-santo/
CATEGORIES:Básica,General,Media,Prebásica
END:VEVENT
BEGIN:VEVENT
DTSTART;VALUE=DATE:20210402
DTEND;VALUE=DATE:20210403
DTSTAMP:20260423T042145
CREATED:20201129T223025Z
LAST-MODIFIED:20201129T223025Z
UID:2521-1617321600-1617407999@www.colegioaltomonte.cl
SUMMARY:Viernes Santo
DESCRIPTION:
URL:https://www.colegioaltomonte.cl/event/viernes-santo/
CATEGORIES:Básica,General,Media,Prebásica
END:VEVENT
BEGIN:VEVENT
DTSTART;VALUE=DATE:20210327
DTEND;VALUE=DATE:20210328
DTSTAMP:20260423T042145
CREATED:20210326T143210Z
LAST-MODIFIED:20210326T143509Z
UID:3383-1616803200-1616889599@www.colegioaltomonte.cl
SUMMARY:Jornada Activa para Padres e Hijos/as PG a IV° medio
DESCRIPTION:“Jornada Activa para Padres e Hijos” PG a 4°Básico \n10:00 a 10:45 hrs https://meet.google.com/cyf-wswt-snj \n“Jornada Activa para Padres e Hijos” 5°Básico a IV°Medio \n11:00 a 11:45 hrs https://meet.google.com/mqr-ppvj-fbp \n 
URL:https://www.colegioaltomonte.cl/event/jornada-activa-para-padres-e-hijos-as-pg-a-iv-medio/
CATEGORIES:Básica,General,Media,Prebásica
END:VEVENT
BEGIN:VEVENT
DTSTART;VALUE=DATE:20210322
DTEND;VALUE=DATE:20210323
DTSTAMP:20260423T042145
CREATED:20210319T234326Z
LAST-MODIFIED:20210319T234326Z
UID:3353-1616371200-1616457599@www.colegioaltomonte.cl
SUMMARY:Academia Altomonte Activo y Saludable
DESCRIPTION:
URL:https://www.colegioaltomonte.cl/event/academia-altomonte-activo-y-saludable/
CATEGORIES:Básica,General,Media,Prebásica
END:VEVENT
BEGIN:VEVENT
DTSTART;VALUE=DATE:20210322
DTEND;VALUE=DATE:20210323
DTSTAMP:20260423T042145
CREATED:20210319T233944Z
LAST-MODIFIED:20210319T234229Z
UID:3350-1616371200-1616457599@www.colegioaltomonte.cl
SUMMARY:Inicio Clases Remotas por Cuarentena Total
DESCRIPTION:
URL:https://www.colegioaltomonte.cl/event/inicio-clases-remota-por-cuarentena-total/
CATEGORIES:Básica,General,Media,Prebásica
END:VEVENT
BEGIN:VEVENT
DTSTART;VALUE=DATE:20210322
DTEND;VALUE=DATE:20210323
DTSTAMP:20260423T042145
CREATED:20201129T010645Z
LAST-MODIFIED:20201129T010645Z
UID:2464-1616371200-1616457599@www.colegioaltomonte.cl
SUMMARY:Día Mundial del Agua
DESCRIPTION:
URL:https://www.colegioaltomonte.cl/event/dia-mundial-del-agua/
CATEGORIES:Básica,General,Media,Prebásica
END:VEVENT
BEGIN:VEVENT
DTSTART;VALUE=DATE:20210321
DTEND;VALUE=DATE:20210322
DTSTAMP:20260423T042145
CREATED:20201129T014124Z
LAST-MODIFIED:20201129T014124Z
UID:2518-1616284800-1616371199@www.colegioaltomonte.cl
SUMMARY:Día de la Fuerza Aérea de Chile
DESCRIPTION:
URL:https://www.colegioaltomonte.cl/event/dia-de-la-fuerza-aerea-de-chile/
CATEGORIES:Básica,General,Media,Prebásica
END:VEVENT
BEGIN:VEVENT
DTSTART;VALUE=DATE:20210316
DTEND;VALUE=DATE:20210317
DTSTAMP:20260423T042145
CREATED:20210303T151826Z
LAST-MODIFIED:20210314T223419Z
UID:3215-1615852800-1615939199@www.colegioaltomonte.cl
SUMMARY:Inicio de Inscripción Academias
DESCRIPTION:Inicio de inscripción de nuevas academias 2021 modalidad presencial y gradual
URL:https://www.colegioaltomonte.cl/event/inicio-de-inscripcion-academias/
CATEGORIES:Básica,General,Media,Prebásica
END:VEVENT
BEGIN:VEVENT
DTSTART;TZID=America/Santiago:20210315T080000
DTEND;TZID=America/Santiago:20210319T170000
DTSTAMP:20260423T042145
CREATED:20210310T144306Z
LAST-MODIFIED:20210310T145645Z
UID:3275-1615795200-1616173200@www.colegioaltomonte.cl
SUMMARY:Semana de la Astronomía
DESCRIPTION:
URL:https://www.colegioaltomonte.cl/event/semana-de-la-astronomia/
CATEGORIES:Básica,General,Media,Prebásica
END:VEVENT
BEGIN:VEVENT
DTSTART;VALUE=DATE:20210312
DTEND;VALUE=DATE:20210313
DTSTAMP:20260423T042145
CREATED:20201129T010608Z
LAST-MODIFIED:20201129T010914Z
UID:2462-1615507200-1615593599@www.colegioaltomonte.cl
SUMMARY:Día contra el ciberacoso
DESCRIPTION:
URL:https://www.colegioaltomonte.cl/event/dia-contra-el-ciberacoso/
CATEGORIES:Básica,General,Media,Prebásica
END:VEVENT
BEGIN:VEVENT
DTSTART;TZID=America/Santiago:20210310T080000
DTEND;TZID=America/Santiago:20210310T170000
DTSTAMP:20260423T042145
CREATED:20201129T013159Z
LAST-MODIFIED:20201129T013159Z
UID:2516-1615363200-1615395600@www.colegioaltomonte.cl
SUMMARY:Reunión de Apoderados 2° Ciclo Básico y E. Media
DESCRIPTION:
URL:https://www.colegioaltomonte.cl/event/reunion-de-apoderados-2-ciclo-basico-y-e-media/
CATEGORIES:General,Media
END:VEVENT
BEGIN:VEVENT
DTSTART;VALUE=DATE:20210308
DTEND;VALUE=DATE:20210309
DTSTAMP:20260423T042145
CREATED:20210306T151810Z
LAST-MODIFIED:20210306T151810Z
UID:3244-1615161600-1615247999@www.colegioaltomonte.cl
SUMMARY:Inicio Academia Altomonte Activo y Saludable
DESCRIPTION:
URL:https://www.colegioaltomonte.cl/event/inicio-academia-altomonte-activo-y-saludable/
CATEGORIES:Básica,General,Media,Prebásica
END:VEVENT
BEGIN:VEVENT
DTSTART;VALUE=DATE:20210308
DTEND;VALUE=DATE:20210309
DTSTAMP:20260423T042145
CREATED:20201129T013127Z
LAST-MODIFIED:20201129T013127Z
UID:2514-1615161600-1615247999@www.colegioaltomonte.cl
SUMMARY:Reunión de Apoderados Prebásica y Primer Ciclo Básico
DESCRIPTION:
URL:https://www.colegioaltomonte.cl/event/reunion-de-apoderados-prebasica-y-primer-ciclo-basico/
CATEGORIES:Básica,General,Prebásica
END:VEVENT
BEGIN:VEVENT
DTSTART;VALUE=DATE:20210308
DTEND;VALUE=DATE:20210309
DTSTAMP:20260423T042145
CREATED:20201129T010521Z
LAST-MODIFIED:20201129T010521Z
UID:2460-1615161600-1615247999@www.colegioaltomonte.cl
SUMMARY:Día Internacional de la Mujer
DESCRIPTION:
URL:https://www.colegioaltomonte.cl/event/dia-internacional-de-la-mujer/
CATEGORIES:Básica,General,Media,Prebásica
END:VEVENT
BEGIN:VEVENT
DTSTART;VALUE=DATE:20210301
DTEND;VALUE=DATE:20210302
DTSTAMP:20260423T042145
CREATED:20201129T012156Z
LAST-MODIFIED:20201129T012156Z
UID:2506-1614556800-1614643199@www.colegioaltomonte.cl
SUMMARY:Inicio de Clases Año Escolar 2021
DESCRIPTION:
URL:https://www.colegioaltomonte.cl/event/inicio-de-clases-ano-escolar-2021/
CATEGORIES:Básica,General,Media,Prebásica
END:VEVENT
BEGIN:VEVENT
DTSTART;VALUE=DATE:20210108
DTEND;VALUE=DATE:20210109
DTSTAMP:20260423T042145
CREATED:20210101T221242Z
LAST-MODIFIED:20210101T221242Z
UID:2860-1610064000-1610150399@www.colegioaltomonte.cl
SUMMARY:Proceso de Admisión 2021: Rendición Prueba
DESCRIPTION:Fuente: https://demre.cl/calendario/
URL:https://www.colegioaltomonte.cl/event/proceso-de-admision-2021-rendicion-prueba/
CATEGORIES:General,Media
END:VEVENT
BEGIN:VEVENT
DTSTART;VALUE=DATE:20210108
DTEND;VALUE=DATE:20210109
DTSTAMP:20260423T042145
CREATED:20200728T153229Z
LAST-MODIFIED:20200728T153229Z
UID:1692-1610064000-1610150399@www.colegioaltomonte.cl
SUMMARY:Jornada de Evaluación Anual
DESCRIPTION:
URL:https://www.colegioaltomonte.cl/event/jornada-de-evaluacion-anual-2/
CATEGORIES:Básica,General,Media,Prebásica
END:VEVENT
BEGIN:VEVENT
DTSTART;VALUE=DATE:20210107
DTEND;VALUE=DATE:20210108
DTSTAMP:20260423T042145
CREATED:20210101T220849Z
LAST-MODIFIED:20210101T220955Z
UID:2855-1609977600-1610063999@www.colegioaltomonte.cl
SUMMARY:Proceso de Admisión 2021: Rendición Prueba
DESCRIPTION:Fuente: https://demre.cl/calendario/
URL:https://www.colegioaltomonte.cl/event/proceso-de-admision-2021-rendicion-prueba-de-matematica-y-prueba-de-historia-y-ciencias-sociales-3/
CATEGORIES:General,Media
END:VEVENT
BEGIN:VEVENT
DTSTART;VALUE=DATE:20210107
DTEND;VALUE=DATE:20210108
DTSTAMP:20260423T042145
CREATED:20200728T153046Z
LAST-MODIFIED:20200728T153046Z
UID:1690-1609977600-1610063999@www.colegioaltomonte.cl
SUMMARY:Jornada de Evaluación Anual
DESCRIPTION:
URL:https://www.colegioaltomonte.cl/event/jornada-de-evaluacion-anual/
CATEGORIES:Básica,General,Media,Prebásica
END:VEVENT
BEGIN:VEVENT
DTSTART;TZID=America/Santiago:20210106T160000
DTEND;TZID=America/Santiago:20210106T170000
DTSTAMP:20260423T042145
CREATED:20201216T151538Z
LAST-MODIFIED:20201216T151538Z
UID:2744-1609948800-1609952400@www.colegioaltomonte.cl
SUMMARY:Charla Admisión
DESCRIPTION:
URL:https://www.colegioaltomonte.cl/event/charla-admision-2/
CATEGORIES:Básica,General,Media,Prebásica
END:VEVENT
BEGIN:VEVENT
DTSTART;TZID=America/Santiago:20210105T080000
DTEND;TZID=America/Santiago:20210105T170000
DTSTAMP:20260423T042145
CREATED:20201224T143809Z
LAST-MODIFIED:20201224T143809Z
UID:2804-1609833600-1609866000@www.colegioaltomonte.cl
SUMMARY:Perfeccionamiento Docente
DESCRIPTION:
URL:https://www.colegioaltomonte.cl/event/perfeccionamiento-docente-2/
CATEGORIES:Básica,General,Media,Prebásica
END:VEVENT
BEGIN:VEVENT
DTSTART;VALUE=DATE:20210105
DTEND;VALUE=DATE:20210106
DTSTAMP:20260423T042145
CREATED:20200717T225650Z
LAST-MODIFIED:20210101T221057Z
UID:1624-1609804800-1609891199@www.colegioaltomonte.cl
SUMMARY:Proceso de Admisión 2021: Rendición Prueba
DESCRIPTION:Fuente: https://demre.cl/calendario/
URL:https://www.colegioaltomonte.cl/event/proceso-de-admision-2021-rendicion-prueba-de-matematica-y-prueba-de-historia-y-ciencias-sociales-2/
CATEGORIES:General,Media
END:VEVENT
BEGIN:VEVENT
DTSTART;TZID=America/Santiago:20210104T080000
DTEND;TZID=America/Santiago:20210104T170000
DTSTAMP:20260423T042145
CREATED:20201224T143728Z
LAST-MODIFIED:20201224T143728Z
UID:2802-1609747200-1609779600@www.colegioaltomonte.cl
SUMMARY:Perfeccionamiento Docente
DESCRIPTION:
URL:https://www.colegioaltomonte.cl/event/perfeccionamiento-docente/
CATEGORIES:Básica,General,Media,Prebásica
END:VEVENT
BEGIN:VEVENT
DTSTART;VALUE=DATE:20210104
DTEND;VALUE=DATE:20210105
DTSTAMP:20260423T042145
CREATED:20200717T224147Z
LAST-MODIFIED:20210101T221133Z
UID:1619-1609718400-1609804799@www.colegioaltomonte.cl
SUMMARY:Proceso de Admisión 2021: Rendición Prueba
DESCRIPTION:Fuente: https://demre.cl/calendario/
URL:https://www.colegioaltomonte.cl/event/proceso-de-admision-2021-rendicion-prueba-de-comprension-lectora-y-prueba-de-ciencias/
CATEGORIES:General,Media
END:VEVENT
BEGIN:VEVENT
DTSTART;TZID=America/Santiago:20210103T170000
DTEND;TZID=America/Santiago:20210103T190000
DTSTAMP:20260423T042145
CREATED:20200717T223921Z
LAST-MODIFIED:20200717T225347Z
UID:1617-1609693200-1609700400@www.colegioaltomonte.cl
SUMMARY:Proceso de Admisión 2021: Reconocimiento de salas
DESCRIPTION:
URL:https://www.colegioaltomonte.cl/event/reconocimiento-de-salas-proceso-de-admision-2021/
CATEGORIES:General,Media
END:VEVENT
BEGIN:VEVENT
DTSTART;VALUE=DATE:20210101
DTEND;VALUE=DATE:20210102
DTSTAMP:20260423T042145
CREATED:20201129T223757Z
LAST-MODIFIED:20201129T223757Z
UID:2535-1609459200-1609545599@www.colegioaltomonte.cl
SUMMARY:Año Nuevo
DESCRIPTION:
URL:https://www.colegioaltomonte.cl/event/ano-nuevo/
CATEGORIES:Básica,General,Media,Prebásica
END:VEVENT
BEGIN:VEVENT
DTSTART;TZID=America/Santiago:20201230T080000
DTEND;TZID=America/Santiago:20201230T170000
DTSTAMP:20260423T042145
CREATED:20201224T143652Z
LAST-MODIFIED:20201224T143652Z
UID:2800-1609315200-1609347600@www.colegioaltomonte.cl
SUMMARY:Capacitación Docente
DESCRIPTION:
URL:https://www.colegioaltomonte.cl/event/capacitacion-docente-3/
CATEGORIES:Básica,General,Media,Prebásica
END:VEVENT
BEGIN:VEVENT
DTSTART;TZID=America/Santiago:20201229T080000
DTEND;TZID=America/Santiago:20201229T170000
DTSTAMP:20260423T042145
CREATED:20201224T143617Z
LAST-MODIFIED:20201224T143617Z
UID:2798-1609228800-1609261200@www.colegioaltomonte.cl
SUMMARY:Capacitación Docente
DESCRIPTION:
URL:https://www.colegioaltomonte.cl/event/capacitacion-docente-2/
CATEGORIES:Básica,General,Media,Prebásica
END:VEVENT
END:VCALENDAR