BEGIN:VCALENDAR
VERSION:2.0
PRODID:-//Colegio Altomonte - ECPv6.13.0//NONSGML v1.0//EN
CALSCALE:GREGORIAN
METHOD:PUBLISH
X-ORIGINAL-URL:https://www.colegioaltomonte.cl
X-WR-CALDESC:Eventos para Colegio Altomonte
REFRESH-INTERVAL;VALUE=DURATION:PT1H
X-Robots-Tag:noindex
X-PUBLISHED-TTL:PT1H
BEGIN:VTIMEZONE
TZID:America/Santiago
BEGIN:STANDARD
TZOFFSETFROM:-0300
TZOFFSETTO:-0400
TZNAME:-04
DTSTART:20210404T030000
END:STANDARD
BEGIN:DAYLIGHT
TZOFFSETFROM:-0400
TZOFFSETTO:-0300
TZNAME:-03
DTSTART:20210905T040000
END:DAYLIGHT
END:VTIMEZONE
BEGIN:VEVENT
DTSTART;TZID=America/Santiago:20210623T080000
DTEND;TZID=America/Santiago:20210724T170000
DTSTAMP:20260419T085554
CREATED:20210503T145319Z
LAST-MODIFIED:20210612T224437Z
UID:3673-1624435200-1627146000@www.colegioaltomonte.cl
SUMMARY:Aniversario del Colegio Online
DESCRIPTION:
URL:https://www.colegioaltomonte.cl/event/aniversario-del-colegio/
CATEGORIES:Básica,General,Media,Prebásica
END:VEVENT
BEGIN:VEVENT
DTSTART;VALUE=DATE:20210621
DTEND;VALUE=DATE:20210622
DTSTAMP:20260419T085554
CREATED:20210618T165708Z
LAST-MODIFIED:20210618T165708Z
UID:3977-1624233600-1624319999@www.colegioaltomonte.cl
SUMMARY:Día de los Pueblos Originarios
DESCRIPTION:
URL:https://www.colegioaltomonte.cl/event/dia-de-los-pueblos-originarios/
CATEGORIES:Básica,General,Media,Prebásica
END:VEVENT
BEGIN:VEVENT
DTSTART;VALUE=DATE:20210605
DTEND;VALUE=DATE:20210606
DTSTAMP:20260419T085554
CREATED:20201129T011336Z
LAST-MODIFIED:20201129T011336Z
UID:2482-1622851200-1622937599@www.colegioaltomonte.cl
SUMMARY:Día Mundial del Medio Ambiente
DESCRIPTION:
URL:https://www.colegioaltomonte.cl/event/dia-mundial-del-medio-ambiente/
CATEGORIES:Básica,General,Media,Prebásica
END:VEVENT
BEGIN:VEVENT
DTSTART;VALUE=DATE:20210529
DTEND;VALUE=DATE:20210530
DTSTAMP:20260419T085554
CREATED:20201129T011241Z
LAST-MODIFIED:20201129T011241Z
UID:2480-1622246400-1622332799@www.colegioaltomonte.cl
SUMMARY:Día del Patrimonio Cultural de Chile
DESCRIPTION:
URL:https://www.colegioaltomonte.cl/event/dia-del-patrimonio-cultural-de-chile/
CATEGORIES:Básica,General,Media,Prebásica
END:VEVENT
BEGIN:VEVENT
DTSTART;TZID=America/Santiago:20210526T180000
DTEND;TZID=America/Santiago:20210526T190000
DTSTAMP:20260419T085554
CREATED:20210415T202221Z
LAST-MODIFIED:20210503T133113Z
UID:3555-1622052000-1622055600@www.colegioaltomonte.cl
SUMMARY:Reunión de Padres y Apoderados n° 2
DESCRIPTION:2° Ciclo  Básico y E. Media.
URL:https://www.colegioaltomonte.cl/event/reunion-de-padres-y-apoderados-n-2-2/
CATEGORIES:General,Media
END:VEVENT
BEGIN:VEVENT
DTSTART;TZID=America/Santiago:20210524T180000
DTEND;TZID=America/Santiago:20210524T190000
DTSTAMP:20260419T085554
CREATED:20210415T202140Z
LAST-MODIFIED:20210503T133005Z
UID:3553-1621879200-1621882800@www.colegioaltomonte.cl
SUMMARY:Reunión de Padres y Apoderados n° 2
DESCRIPTION:
URL:https://www.colegioaltomonte.cl/event/reunion-de-padres-y-apoderados-n-2/
CATEGORIES:Básica,Prebásica
END:VEVENT
BEGIN:VEVENT
DTSTART;VALUE=DATE:20210521
DTEND;VALUE=DATE:20210522
DTSTAMP:20260419T085554
CREATED:20201129T011149Z
LAST-MODIFIED:20201129T011159Z
UID:2478-1621555200-1621641599@www.colegioaltomonte.cl
SUMMARY:Día de las Glorias Navales
DESCRIPTION:
URL:https://www.colegioaltomonte.cl/event/dia-de-las-glorias-navales/
CATEGORIES:Básica,General,Media,Prebásica
END:VEVENT
BEGIN:VEVENT
DTSTART;VALUE=DATE:20210520
DTEND;VALUE=DATE:20210521
DTSTAMP:20260419T085554
CREATED:20210503T145028Z
LAST-MODIFIED:20210503T145028Z
UID:3667-1621468800-1621555199@www.colegioaltomonte.cl
SUMMARY:Jornada de Evaluación y Planificación
DESCRIPTION:Docentes CAM.
URL:https://www.colegioaltomonte.cl/event/jornada-de-evaluacion-y-planificacion/
CATEGORIES:Básica,General,Media,Prebásica
END:VEVENT
BEGIN:VEVENT
DTSTART;VALUE=DATE:20210515
DTEND;VALUE=DATE:20210517
DTSTAMP:20260419T085554
CREATED:20201201T122422Z
LAST-MODIFIED:20210329T002301Z
UID:2537-1621036800-1621209599@www.colegioaltomonte.cl
SUMMARY:Elección General
DESCRIPTION:
URL:https://www.colegioaltomonte.cl/event/eleccion-general/
CATEGORIES:General
END:VEVENT
BEGIN:VEVENT
DTSTART;VALUE=DATE:20210515
DTEND;VALUE=DATE:20210516
DTSTAMP:20260419T085554
CREATED:20201129T011121Z
LAST-MODIFIED:20201129T011121Z
UID:2476-1621036800-1621123199@www.colegioaltomonte.cl
SUMMARY:Día Internacional de las Familias
DESCRIPTION:
URL:https://www.colegioaltomonte.cl/event/dia-internacional-de-las-familias/
CATEGORIES:Básica,General,Media,Prebásica
END:VEVENT
BEGIN:VEVENT
DTSTART;TZID=America/Santiago:20210511T120000
DTEND;TZID=America/Santiago:20210511T130000
DTSTAMP:20260419T085554
CREATED:20210503T174022Z
LAST-MODIFIED:20210503T180817Z
UID:3676-1620734400-1620738000@www.colegioaltomonte.cl
SUMMARY:Obra de Teatro: "Chiwanku y los reyes"
DESCRIPTION:
URL:https://www.colegioaltomonte.cl/event/obra-de-teatro-chiwanku-y-los-reyes/
CATEGORIES:Básica,General,Media
END:VEVENT
BEGIN:VEVENT
DTSTART;TZID=America/Santiago:20210511T080000
DTEND;TZID=America/Santiago:20210531T170000
DTSTAMP:20260419T085554
CREATED:20210510T031440Z
LAST-MODIFIED:20210510T031440Z
UID:3741-1620720000-1622480400@www.colegioaltomonte.cl
SUMMARY:Exposición Mes del Mar y Combate Naval de Iquique
DESCRIPTION:
URL:https://www.colegioaltomonte.cl/event/exposicion-mes-del-mar-y-combate-naval-de-iquique/
CATEGORIES:Básica,General,Media,Prebásica
END:VEVENT
BEGIN:VEVENT
DTSTART;VALUE=DATE:20210510
DTEND;VALUE=DATE:20210511
DTSTAMP:20260419T085554
CREATED:20201129T011047Z
LAST-MODIFIED:20210503T133036Z
UID:2474-1620604800-1620691199@www.colegioaltomonte.cl
SUMMARY:Día del/la Estudiante
DESCRIPTION:
URL:https://www.colegioaltomonte.cl/event/dia-del-la-estudiante/
CATEGORIES:Básica,General,Media,Prebásica
END:VEVENT
BEGIN:VEVENT
DTSTART;TZID=America/Santiago:20210506T183000
DTEND;TZID=America/Santiago:20210506T193000
DTSTAMP:20260419T085554
CREATED:20210503T232645Z
LAST-MODIFIED:20210503T232645Z
UID:3697-1620325800-1620329400@www.colegioaltomonte.cl
SUMMARY:Reunión de padres y apoderados de IV° medio
DESCRIPTION:Exploración Vocacional. \nConvoca: Psicóloga Antonia Segovia G.
URL:https://www.colegioaltomonte.cl/event/reunion-de-padres-y-apoderados-de-iv-medio/
CATEGORIES:General,Media
END:VEVENT
BEGIN:VEVENT
DTSTART;VALUE=DATE:20210501
DTEND;VALUE=DATE:20210502
DTSTAMP:20260419T085554
CREATED:20201129T010949Z
LAST-MODIFIED:20201129T010949Z
UID:2472-1619827200-1619913599@www.colegioaltomonte.cl
SUMMARY:Día del Trabajo
DESCRIPTION:
URL:https://www.colegioaltomonte.cl/event/dia-del-trabajo/
CATEGORIES:Básica,General,Media,Prebásica
END:VEVENT
BEGIN:VEVENT
DTSTART;TZID=America/Santiago:20210428T150000
DTEND;TZID=America/Santiago:20210428T180000
DTSTAMP:20260419T085554
CREATED:20210423T150012Z
LAST-MODIFIED:20210423T150012Z
UID:3599-1619622000-1619632800@www.colegioaltomonte.cl
SUMMARY:Autocuidado Docente
DESCRIPTION:
URL:https://www.colegioaltomonte.cl/event/autocuidado-docente/
CATEGORIES:Básica,General,Media,Prebásica
END:VEVENT
BEGIN:VEVENT
DTSTART;VALUE=DATE:20210427
DTEND;VALUE=DATE:20210428
DTSTAMP:20260419T085554
CREATED:20201129T011608Z
LAST-MODIFIED:20201129T011619Z
UID:2490-1619481600-1619567999@www.colegioaltomonte.cl
SUMMARY:Día de Carabineros de Chile
DESCRIPTION:
URL:https://www.colegioaltomonte.cl/event/dia-de-carabineros-de-chile/
CATEGORIES:Básica,General,Media,Prebásica
END:VEVENT
BEGIN:VEVENT
DTSTART;VALUE=DATE:20210424
DTEND;VALUE=DATE:20210425
DTSTAMP:20260419T085554
CREATED:20210423T145746Z
LAST-MODIFIED:20210423T145746Z
UID:3595-1619222400-1619308799@www.colegioaltomonte.cl
SUMMARY:Baile Entretenido
DESCRIPTION:Deportes\, EFI y Salud.
URL:https://www.colegioaltomonte.cl/event/baile-entretenido/
CATEGORIES:Básica,General,Media,Prebásica
END:VEVENT
BEGIN:VEVENT
DTSTART;TZID=America/Santiago:20210423T190000
DTEND;TZID=America/Santiago:20210423T200000
DTSTAMP:20260419T085554
CREATED:20210415T202002Z
LAST-MODIFIED:20210415T205254Z
UID:3550-1619204400-1619208000@www.colegioaltomonte.cl
SUMMARY:Crianza Positiva: Cómo apoyar a nuestros niños\, niñas y adolescentes en tiempos de pandemia
DESCRIPTION:  \nLink: pinchar aquí \n 
URL:https://www.colegioaltomonte.cl/event/crianza-positiva-como-apoyar-a-nuestros-ninos-ninas-y-adolescentes-en-tiempos-de-pandemia/
CATEGORIES:Básica,General,Media,Prebásica
END:VEVENT
BEGIN:VEVENT
DTSTART;TZID=America/Santiago:20210423T080000
DTEND;TZID=America/Santiago:20210423T170000
DTSTAMP:20260419T085554
CREATED:20201129T010805Z
LAST-MODIFIED:20201129T010805Z
UID:2468-1619164800-1619197200@www.colegioaltomonte.cl
SUMMARY:Día de la Convivencia Escolar
DESCRIPTION:
URL:https://www.colegioaltomonte.cl/event/dia-de-la-convivencia-escolar/
CATEGORIES:Básica,General,Media,Prebásica
END:VEVENT
BEGIN:VEVENT
DTSTART;VALUE=DATE:20210423
DTEND;VALUE=DATE:20210424
DTSTAMP:20260419T085554
CREATED:20210329T124342Z
LAST-MODIFIED:20210414T172613Z
UID:3397-1619136000-1619222399@www.colegioaltomonte.cl
SUMMARY:Elecciones CDEA 2021
DESCRIPTION:
URL:https://www.colegioaltomonte.cl/event/elecciones-cdea-2021/
CATEGORIES:Básica,General,Media
END:VEVENT
BEGIN:VEVENT
DTSTART;VALUE=DATE:20210423
DTEND;VALUE=DATE:20210424
DTSTAMP:20260419T085554
CREATED:20201129T010847Z
LAST-MODIFIED:20201129T010847Z
UID:2470-1619136000-1619222399@www.colegioaltomonte.cl
SUMMARY:Día Mundial del Libro y el Derecho de Autor
DESCRIPTION:
URL:https://www.colegioaltomonte.cl/event/dia-mundial-del-libro-y-el-derecho-de-autor/
CATEGORIES:Básica,General,Media,Prebásica
END:VEVENT
BEGIN:VEVENT
DTSTART;VALUE=DATE:20210422
DTEND;VALUE=DATE:20210423
DTSTAMP:20260419T085554
CREATED:20210413T141836Z
LAST-MODIFIED:20210413T141843Z
UID:3532-1619049600-1619135999@www.colegioaltomonte.cl
SUMMARY:Día de la Tierra
DESCRIPTION:
URL:https://www.colegioaltomonte.cl/event/dia-de-la-tierra/
CATEGORIES:Básica,General,Media,Prebásica
END:VEVENT
BEGIN:VEVENT
DTSTART;TZID=America/Santiago:20210421T084500
DTEND;TZID=America/Santiago:20210421T213000
DTSTAMP:20260419T085554
CREATED:20210414T172703Z
LAST-MODIFIED:20210414T172703Z
UID:3542-1618994700-1619040600@www.colegioaltomonte.cl
SUMMARY:Presentación Lista Postulante al CDEA
DESCRIPTION:
URL:https://www.colegioaltomonte.cl/event/presentacion-lista-postulante-al-cdea/
CATEGORIES:Básica,General,Media
END:VEVENT
BEGIN:VEVENT
DTSTART;VALUE=DATE:20210410
DTEND;VALUE=DATE:20210411
DTSTAMP:20260419T085554
CREATED:20210408T205137Z
LAST-MODIFIED:20210408T205343Z
UID:3481-1618012800-1618099199@www.colegioaltomonte.cl
SUMMARY:Jornada de Actividad Física y Salud Colaboradores/as
DESCRIPTION:Sábado Activo Laboral. \nDepartamento de EFI y Salud.
URL:https://www.colegioaltomonte.cl/event/actividad-fisica-laboral/
CATEGORIES:General
END:VEVENT
BEGIN:VEVENT
DTSTART;VALUE=DATE:20210405
DTEND;VALUE=DATE:20210406
DTSTAMP:20260419T085554
CREATED:20201129T010724Z
LAST-MODIFIED:20201129T010724Z
UID:2466-1617580800-1617667199@www.colegioaltomonte.cl
SUMMARY:Día Mundial de la Actividad Física
DESCRIPTION:
URL:https://www.colegioaltomonte.cl/event/dia-mundial-de-la-actividad-fisica/
CATEGORIES:Básica,General,Media,Prebásica
END:VEVENT
BEGIN:VEVENT
DTSTART;VALUE=DATE:20210403
DTEND;VALUE=DATE:20210404
DTSTAMP:20260419T085554
CREATED:20201129T223055Z
LAST-MODIFIED:20201129T223055Z
UID:2523-1617408000-1617494399@www.colegioaltomonte.cl
SUMMARY:Sábado Santo
DESCRIPTION:
URL:https://www.colegioaltomonte.cl/event/sabado-santo/
CATEGORIES:Básica,General,Media,Prebásica
END:VEVENT
BEGIN:VEVENT
DTSTART;VALUE=DATE:20210402
DTEND;VALUE=DATE:20210403
DTSTAMP:20260419T085554
CREATED:20201129T223025Z
LAST-MODIFIED:20201129T223025Z
UID:2521-1617321600-1617407999@www.colegioaltomonte.cl
SUMMARY:Viernes Santo
DESCRIPTION:
URL:https://www.colegioaltomonte.cl/event/viernes-santo/
CATEGORIES:Básica,General,Media,Prebásica
END:VEVENT
BEGIN:VEVENT
DTSTART;VALUE=DATE:20210327
DTEND;VALUE=DATE:20210328
DTSTAMP:20260419T085554
CREATED:20210326T143210Z
LAST-MODIFIED:20210326T143509Z
UID:3383-1616803200-1616889599@www.colegioaltomonte.cl
SUMMARY:Jornada Activa para Padres e Hijos/as PG a IV° medio
DESCRIPTION:“Jornada Activa para Padres e Hijos” PG a 4°Básico \n10:00 a 10:45 hrs https://meet.google.com/cyf-wswt-snj \n“Jornada Activa para Padres e Hijos” 5°Básico a IV°Medio \n11:00 a 11:45 hrs https://meet.google.com/mqr-ppvj-fbp \n 
URL:https://www.colegioaltomonte.cl/event/jornada-activa-para-padres-e-hijos-as-pg-a-iv-medio/
CATEGORIES:Básica,General,Media,Prebásica
END:VEVENT
BEGIN:VEVENT
DTSTART;VALUE=DATE:20210322
DTEND;VALUE=DATE:20210323
DTSTAMP:20260419T085554
CREATED:20210319T234326Z
LAST-MODIFIED:20210319T234326Z
UID:3353-1616371200-1616457599@www.colegioaltomonte.cl
SUMMARY:Academia Altomonte Activo y Saludable
DESCRIPTION:
URL:https://www.colegioaltomonte.cl/event/academia-altomonte-activo-y-saludable/
CATEGORIES:Básica,General,Media,Prebásica
END:VEVENT
END:VCALENDAR