BEGIN:VCALENDAR
VERSION:2.0
PRODID:-//Colegio Altomonte - ECPv6.13.0//NONSGML v1.0//EN
CALSCALE:GREGORIAN
METHOD:PUBLISH
X-WR-CALNAME:Colegio Altomonte
X-ORIGINAL-URL:https://www.colegioaltomonte.cl
X-WR-CALDESC:Eventos para Colegio Altomonte
REFRESH-INTERVAL;VALUE=DURATION:PT1H
X-Robots-Tag:noindex
X-PUBLISHED-TTL:PT1H
BEGIN:VTIMEZONE
TZID:UTC
BEGIN:STANDARD
TZOFFSETFROM:+0000
TZOFFSETTO:+0000
TZNAME:UTC
DTSTART:20200101T000000
END:STANDARD
END:VTIMEZONE
BEGIN:VTIMEZONE
TZID:America/Santiago
BEGIN:STANDARD
TZOFFSETFROM:-0300
TZOFFSETTO:-0400
TZNAME:-04
DTSTART:20200405T030000
END:STANDARD
BEGIN:DAYLIGHT
TZOFFSETFROM:-0400
TZOFFSETTO:-0300
TZNAME:-03
DTSTART:20200906T040000
END:DAYLIGHT
END:VTIMEZONE
BEGIN:VEVENT
DTSTART;TZID=UTC:20201015T183000
DTEND;TZID=UTC:20201015T193000
DTSTAMP:20260423T105545
CREATED:20200603T135358Z
LAST-MODIFIED:20200603T135358Z
UID:1051-1602786600-1602790200@www.colegioaltomonte.cl
SUMMARY:Reunión Apoderados 5º a 8º Básico
DESCRIPTION:
URL:https://www.colegioaltomonte.cl/event/reunion-apoderados-5o-a-8o-basico/
LOCATION:image
CATEGORIES:Básica,General
ATTACH;FMTTYPE=image/png:https://www.colegioaltomonte.cl/wp-content/uploads/2020/06/HEADER-25.png
END:VEVENT
BEGIN:VEVENT
DTSTART;TZID=UTC:20201014T183000
DTEND;TZID=UTC:20201014T193000
DTSTAMP:20260423T105545
CREATED:20200603T135250Z
LAST-MODIFIED:20200603T135250Z
UID:1048-1602700200-1602703800@www.colegioaltomonte.cl
SUMMARY:Reunión Apoderados 1º a 4º Básico
DESCRIPTION:
URL:https://www.colegioaltomonte.cl/event/reunion-apoderados-1o-a-4o-basico-2/
LOCATION:image
CATEGORIES:Básica,General
ATTACH;FMTTYPE=image/png:https://www.colegioaltomonte.cl/wp-content/uploads/2020/06/header-26.png
END:VEVENT
BEGIN:VEVENT
DTSTART;TZID=UTC:20201014T183000
DTEND;TZID=UTC:20201014T193000
DTSTAMP:20260423T105545
CREATED:20200603T135227Z
LAST-MODIFIED:20200603T135227Z
UID:1047-1602700200-1602703800@www.colegioaltomonte.cl
SUMMARY:Reunión Apoderados Prébasica
DESCRIPTION:
URL:https://www.colegioaltomonte.cl/event/reunion-apoderados-prebasica-2/
LOCATION:image
CATEGORIES:General,Prebásica
ATTACH;FMTTYPE=image/png:https://www.colegioaltomonte.cl/wp-content/uploads/2020/06/header-26.png
END:VEVENT
BEGIN:VEVENT
DTSTART;VALUE=DATE:20201012
DTEND;VALUE=DATE:20201013
DTSTAMP:20260423T105545
CREATED:20200704T170642Z
LAST-MODIFIED:20200927T003728Z
UID:1435-1602460800-1602547199@www.colegioaltomonte.cl
SUMMARY:Feriado Día del Encuentro de Dos Mundos
DESCRIPTION:
URL:https://www.colegioaltomonte.cl/event/feriado-2/
CATEGORIES:Básica,General,Media,Prebásica
END:VEVENT
BEGIN:VEVENT
DTSTART;VALUE=DATE:20201005
DTEND;VALUE=DATE:20201010
DTSTAMP:20260423T105545
CREATED:20200927T004352Z
LAST-MODIFIED:20200927T004412Z
UID:1925-1601856000-1602287999@www.colegioaltomonte.cl
SUMMARY:Semana de la Ciencia
DESCRIPTION:Actividades científicas.
URL:https://www.colegioaltomonte.cl/event/semana-de-la-ciencia/
CATEGORIES:Básica,Media
ATTACH;FMTTYPE=image/jpeg:https://www.colegioaltomonte.cl/wp-content/uploads/2020/09/semana-de-la-ciencia.jpg
END:VEVENT
BEGIN:VEVENT
DTSTART;VALUE=DATE:20200914
DTEND;VALUE=DATE:20200918
DTSTAMP:20260423T105545
CREATED:20200603T134715Z
LAST-MODIFIED:20200603T135559Z
UID:1041-1600041600-1600387199@www.colegioaltomonte.cl
SUMMARY:Vacaciones Septiembre
DESCRIPTION:
URL:https://www.colegioaltomonte.cl/event/vacaciones-septiembre/
LOCATION:image
CATEGORIES:Básica,General,Media,Prebásica
ATTACH;FMTTYPE=image/png:https://www.colegioaltomonte.cl/wp-content/uploads/2020/06/header-22-1.png
END:VEVENT
BEGIN:VEVENT
DTSTART;VALUE=DATE:20200817
DTEND;VALUE=DATE:20200818
DTSTAMP:20260423T105545
CREATED:20160401T135516Z
LAST-MODIFIED:20200603T135610Z
UID:106-1597622400-1597708799@www.colegioaltomonte.cl
SUMMARY:Inicio de 2º Semestre
DESCRIPTION:
URL:https://www.colegioaltomonte.cl/event/inicio-de-2o-semestre/
LOCATION:image
CATEGORIES:Básica,General,Media,Prebásica
ATTACH;FMTTYPE=image/png:https://www.colegioaltomonte.cl/wp-content/uploads/2020/06/HEADER-26.png
END:VEVENT
BEGIN:VEVENT
DTSTART;TZID=America/Santiago:20200810T080000
DTEND;TZID=America/Santiago:20200814T180000
DTSTAMP:20260423T105545
CREATED:20200714T184936Z
LAST-MODIFIED:20200714T185504Z
UID:1563-1597046400-1597428000@www.colegioaltomonte.cl
SUMMARY:Semana de la Contención Psicoemocional y Bienestar
DESCRIPTION:
URL:https://www.colegioaltomonte.cl/event/semana-de-la-contencion-psicoemocional-y-bienestar/
CATEGORIES:Básica,General,Media,Prebásica
END:VEVENT
BEGIN:VEVENT
DTSTART;VALUE=DATE:20200810
DTEND;VALUE=DATE:20200811
DTSTAMP:20260423T105545
CREATED:20200707T120754Z
LAST-MODIFIED:20200731T153807Z
UID:1474-1597017600-1597103999@www.colegioaltomonte.cl
SUMMARY:Jornada de Reflexión Equipo Directivo
DESCRIPTION:
URL:https://www.colegioaltomonte.cl/event/jornada-de-reflexion/
CATEGORIES:Básica,General,Media,Prebásica
END:VEVENT
BEGIN:VEVENT
DTSTART;TZID=UTC:20200729T183000
DTEND;TZID=UTC:20200729T193000
DTSTAMP:20260423T105545
CREATED:20200603T135515Z
LAST-MODIFIED:20200603T135549Z
UID:1056-1596047400-1596051000@www.colegioaltomonte.cl
SUMMARY:Reunión Apoderados Iº a IVº Medio
DESCRIPTION:
URL:https://www.colegioaltomonte.cl/event/reunion-apoderados-io-a-ivo-medio/
LOCATION:image
CATEGORIES:General,Media
ATTACH;FMTTYPE=image/png:https://www.colegioaltomonte.cl/wp-content/uploads/2020/06/HEADER-25.png
END:VEVENT
BEGIN:VEVENT
DTSTART;TZID=UTC:20200729T183000
DTEND;TZID=UTC:20200729T193000
DTSTAMP:20260423T105545
CREATED:20200603T135432Z
LAST-MODIFIED:20200603T135432Z
UID:1052-1596047400-1596051000@www.colegioaltomonte.cl
SUMMARY:Reunión Apoderados 5º a 8º Básico
DESCRIPTION:
URL:https://www.colegioaltomonte.cl/event/reunion-apoderados-5o-a-8o-basico-2/
LOCATION:image
CATEGORIES:Básica,General
ATTACH;FMTTYPE=image/png:https://www.colegioaltomonte.cl/wp-content/uploads/2020/06/HEADER-25.png
END:VEVENT
BEGIN:VEVENT
DTSTART;VALUE=DATE:20200729
DTEND;VALUE=DATE:20200730
DTSTAMP:20260423T105545
CREATED:20200728T033211Z
LAST-MODIFIED:20200728T033211Z
UID:1686-1595980800-1596067199@www.colegioaltomonte.cl
SUMMARY:Vacunación Escolar
DESCRIPTION:
URL:https://www.colegioaltomonte.cl/event/vacunacion-escolar/
CATEGORIES:Básica
END:VEVENT
BEGIN:VEVENT
DTSTART;TZID=UTC:20200727T183000
DTEND;TZID=UTC:20200727T193000
DTSTAMP:20260423T105545
CREATED:20200603T135124Z
LAST-MODIFIED:20200603T135134Z
UID:1045-1595874600-1595878200@www.colegioaltomonte.cl
SUMMARY:Reunión Apoderados 1º a 4º Básico
DESCRIPTION:
URL:https://www.colegioaltomonte.cl/event/reunion-apoderados-1o-a-4o-basico/
LOCATION:image
CATEGORIES:Básica,General
ATTACH;FMTTYPE=image/png:https://www.colegioaltomonte.cl/wp-content/uploads/2020/06/header-26.png
END:VEVENT
BEGIN:VEVENT
DTSTART;TZID=UTC:20200727T183000
DTEND;TZID=UTC:20200727T193000
DTSTAMP:20260423T105545
CREATED:20200603T135052Z
LAST-MODIFIED:20200603T135052Z
UID:1043-1595874600-1595878200@www.colegioaltomonte.cl
SUMMARY:Reunión Apoderados Prébasica
DESCRIPTION:
URL:https://www.colegioaltomonte.cl/event/reunion-apoderados-prebasica/
LOCATION:image
CATEGORIES:General,Prebásica
ATTACH;FMTTYPE=image/png:https://www.colegioaltomonte.cl/wp-content/uploads/2020/06/header-26.png
END:VEVENT
BEGIN:VEVENT
DTSTART;TZID=America/Santiago:20200717T140000
DTEND;TZID=America/Santiago:20200717T160000
DTSTAMP:20260423T105545
CREATED:20200704T165221Z
LAST-MODIFIED:20200704T165221Z
UID:1423-1594994400-1595001600@www.colegioaltomonte.cl
SUMMARY:Academias y Familia
DESCRIPTION:
URL:https://www.colegioaltomonte.cl/event/academias-y-familia/
END:VEVENT
BEGIN:VEVENT
DTSTART;TZID=America/Santiago:20200717T080000
DTEND;TZID=America/Santiago:20200717T170000
DTSTAMP:20260423T105545
CREATED:20200717T224329Z
LAST-MODIFIED:20200717T224329Z
UID:1621-1594972800-1595005200@www.colegioaltomonte.cl
SUMMARY:Proceso de Admisión 2021: Rendición Prueba de Matemática y Prueba de Historia y Ciencias Sociales
DESCRIPTION:
URL:https://www.colegioaltomonte.cl/event/proceso-de-admision-2021-rendicion-prueba-de-matematica-y-prueba-de-historia-y-ciencias-sociales/
CATEGORIES:General,Media
END:VEVENT
BEGIN:VEVENT
DTSTART;VALUE=DATE:20200716
DTEND;VALUE=DATE:20200717
DTSTAMP:20260423T105545
CREATED:20200704T170522Z
LAST-MODIFIED:20200704T170522Z
UID:1433-1594857600-1594943999@www.colegioaltomonte.cl
SUMMARY:Feriado
DESCRIPTION:
URL:https://www.colegioaltomonte.cl/event/feriado/
END:VEVENT
BEGIN:VEVENT
DTSTART;TZID=America/Santiago:20200714T080000
DTEND;TZID=America/Santiago:20200714T140000
DTSTAMP:20260423T105545
CREATED:20200704T164953Z
LAST-MODIFIED:20200704T164953Z
UID:1418-1594713600-1594735200@www.colegioaltomonte.cl
SUMMARY:Elecciones Centro de Estudiantes 2020-2021
DESCRIPTION:
URL:https://www.colegioaltomonte.cl/event/elecciones-centro-de-estudiantes-2020-2021/
END:VEVENT
BEGIN:VEVENT
DTSTART;TZID=America/Santiago:20200710T160000
DTEND;TZID=America/Santiago:20200710T170000
DTSTAMP:20260423T105545
CREATED:20200704T170341Z
LAST-MODIFIED:20200704T170341Z
UID:1428-1594396800-1594400400@www.colegioaltomonte.cl
SUMMARY:Charla Admisión Proceso 6°
DESCRIPTION:
URL:https://www.colegioaltomonte.cl/event/charla-admision-proceso-6/
CATEGORIES:Básica,General,Media,Prebásica
END:VEVENT
BEGIN:VEVENT
DTSTART;TZID=America/Santiago:20200707T170000
DTEND;TZID=America/Santiago:20200707T180000
DTSTAMP:20260423T105545
CREATED:20200704T163933Z
LAST-MODIFIED:20200704T164202Z
UID:1409-1594141200-1594144800@www.colegioaltomonte.cl
SUMMARY:Conversatorio: La Paz Familiar
DESCRIPTION:
URL:https://www.colegioaltomonte.cl/event/conversatorio-la-paz-familiar/
END:VEVENT
END:VCALENDAR