BEGIN:VCALENDAR
VERSION:2.0
PRODID:-//Colegio Altomonte - ECPv6.13.0//NONSGML v1.0//EN
CALSCALE:GREGORIAN
METHOD:PUBLISH
X-WR-CALNAME:Colegio Altomonte
X-ORIGINAL-URL:https://www.colegioaltomonte.cl
X-WR-CALDESC:Eventos para Colegio Altomonte
REFRESH-INTERVAL;VALUE=DURATION:PT1H
X-Robots-Tag:noindex
X-PUBLISHED-TTL:PT1H
BEGIN:VTIMEZONE
TZID:America/Santiago
BEGIN:STANDARD
TZOFFSETFROM:-0300
TZOFFSETTO:-0400
TZNAME:-04
DTSTART:20200405T030000
END:STANDARD
BEGIN:DAYLIGHT
TZOFFSETFROM:-0400
TZOFFSETTO:-0300
TZNAME:-03
DTSTART:20200906T040000
END:DAYLIGHT
BEGIN:STANDARD
TZOFFSETFROM:-0300
TZOFFSETTO:-0400
TZNAME:-04
DTSTART:20210404T030000
END:STANDARD
BEGIN:DAYLIGHT
TZOFFSETFROM:-0400
TZOFFSETTO:-0300
TZNAME:-03
DTSTART:20210905T040000
END:DAYLIGHT
END:VTIMEZONE
BEGIN:VTIMEZONE
TZID:UTC
BEGIN:STANDARD
TZOFFSETFROM:+0000
TZOFFSETTO:+0000
TZNAME:UTC
DTSTART:20200101T000000
END:STANDARD
END:VTIMEZONE
BEGIN:VEVENT
DTSTART;VALUE=DATE:20210107
DTEND;VALUE=DATE:20210108
DTSTAMP:20260423T125527
CREATED:20200728T153046Z
LAST-MODIFIED:20200728T153046Z
UID:1690-1609977600-1610063999@www.colegioaltomonte.cl
SUMMARY:Jornada de Evaluación Anual
DESCRIPTION:
URL:https://www.colegioaltomonte.cl/event/jornada-de-evaluacion-anual/
CATEGORIES:Básica,General,Media,Prebásica
END:VEVENT
BEGIN:VEVENT
DTSTART;TZID=America/Santiago:20210106T160000
DTEND;TZID=America/Santiago:20210106T170000
DTSTAMP:20260423T125527
CREATED:20201216T151538Z
LAST-MODIFIED:20201216T151538Z
UID:2744-1609948800-1609952400@www.colegioaltomonte.cl
SUMMARY:Charla Admisión
DESCRIPTION:
URL:https://www.colegioaltomonte.cl/event/charla-admision-2/
CATEGORIES:Básica,General,Media,Prebásica
END:VEVENT
BEGIN:VEVENT
DTSTART;TZID=America/Santiago:20210105T080000
DTEND;TZID=America/Santiago:20210105T170000
DTSTAMP:20260423T125527
CREATED:20201224T143809Z
LAST-MODIFIED:20201224T143809Z
UID:2804-1609833600-1609866000@www.colegioaltomonte.cl
SUMMARY:Perfeccionamiento Docente
DESCRIPTION:
URL:https://www.colegioaltomonte.cl/event/perfeccionamiento-docente-2/
CATEGORIES:Básica,General,Media,Prebásica
END:VEVENT
BEGIN:VEVENT
DTSTART;VALUE=DATE:20210105
DTEND;VALUE=DATE:20210106
DTSTAMP:20260423T125527
CREATED:20200717T225650Z
LAST-MODIFIED:20210101T221057Z
UID:1624-1609804800-1609891199@www.colegioaltomonte.cl
SUMMARY:Proceso de Admisión 2021: Rendición Prueba
DESCRIPTION:Fuente: https://demre.cl/calendario/
URL:https://www.colegioaltomonte.cl/event/proceso-de-admision-2021-rendicion-prueba-de-matematica-y-prueba-de-historia-y-ciencias-sociales-2/
CATEGORIES:General,Media
END:VEVENT
BEGIN:VEVENT
DTSTART;TZID=America/Santiago:20210104T080000
DTEND;TZID=America/Santiago:20210104T170000
DTSTAMP:20260423T125527
CREATED:20201224T143728Z
LAST-MODIFIED:20201224T143728Z
UID:2802-1609747200-1609779600@www.colegioaltomonte.cl
SUMMARY:Perfeccionamiento Docente
DESCRIPTION:
URL:https://www.colegioaltomonte.cl/event/perfeccionamiento-docente/
CATEGORIES:Básica,General,Media,Prebásica
END:VEVENT
BEGIN:VEVENT
DTSTART;VALUE=DATE:20210104
DTEND;VALUE=DATE:20210105
DTSTAMP:20260423T125527
CREATED:20200717T224147Z
LAST-MODIFIED:20210101T221133Z
UID:1619-1609718400-1609804799@www.colegioaltomonte.cl
SUMMARY:Proceso de Admisión 2021: Rendición Prueba
DESCRIPTION:Fuente: https://demre.cl/calendario/
URL:https://www.colegioaltomonte.cl/event/proceso-de-admision-2021-rendicion-prueba-de-comprension-lectora-y-prueba-de-ciencias/
CATEGORIES:General,Media
END:VEVENT
BEGIN:VEVENT
DTSTART;TZID=America/Santiago:20210103T170000
DTEND;TZID=America/Santiago:20210103T190000
DTSTAMP:20260423T125527
CREATED:20200717T223921Z
LAST-MODIFIED:20200717T225347Z
UID:1617-1609693200-1609700400@www.colegioaltomonte.cl
SUMMARY:Proceso de Admisión 2021: Reconocimiento de salas
DESCRIPTION:
URL:https://www.colegioaltomonte.cl/event/reconocimiento-de-salas-proceso-de-admision-2021/
CATEGORIES:General,Media
END:VEVENT
BEGIN:VEVENT
DTSTART;VALUE=DATE:20210101
DTEND;VALUE=DATE:20210102
DTSTAMP:20260423T125527
CREATED:20201129T223757Z
LAST-MODIFIED:20201129T223757Z
UID:2535-1609459200-1609545599@www.colegioaltomonte.cl
SUMMARY:Año Nuevo
DESCRIPTION:
URL:https://www.colegioaltomonte.cl/event/ano-nuevo/
CATEGORIES:Básica,General,Media,Prebásica
END:VEVENT
BEGIN:VEVENT
DTSTART;TZID=America/Santiago:20201230T080000
DTEND;TZID=America/Santiago:20201230T170000
DTSTAMP:20260423T125527
CREATED:20201224T143652Z
LAST-MODIFIED:20201224T143652Z
UID:2800-1609315200-1609347600@www.colegioaltomonte.cl
SUMMARY:Capacitación Docente
DESCRIPTION:
URL:https://www.colegioaltomonte.cl/event/capacitacion-docente-3/
CATEGORIES:Básica,General,Media,Prebásica
END:VEVENT
BEGIN:VEVENT
DTSTART;TZID=America/Santiago:20201229T080000
DTEND;TZID=America/Santiago:20201229T170000
DTSTAMP:20260423T125527
CREATED:20201224T143617Z
LAST-MODIFIED:20201224T143617Z
UID:2798-1609228800-1609261200@www.colegioaltomonte.cl
SUMMARY:Capacitación Docente
DESCRIPTION:
URL:https://www.colegioaltomonte.cl/event/capacitacion-docente-2/
CATEGORIES:Básica,General,Media,Prebásica
END:VEVENT
BEGIN:VEVENT
DTSTART;TZID=America/Santiago:20201228T080000
DTEND;TZID=America/Santiago:20201228T170000
DTSTAMP:20260423T125527
CREATED:20201224T143540Z
LAST-MODIFIED:20201224T143540Z
UID:2796-1609142400-1609174800@www.colegioaltomonte.cl
SUMMARY:Capacitación Docente
DESCRIPTION:
URL:https://www.colegioaltomonte.cl/event/capacitacion-docente/
CATEGORIES:Básica,General,Media,Prebásica
END:VEVENT
BEGIN:VEVENT
DTSTART;VALUE=DATE:20201223
DTEND;VALUE=DATE:20201224
DTSTAMP:20260423T125527
CREATED:20200526T170819Z
LAST-MODIFIED:20201129T014315Z
UID:630-1608681600-1608767999@www.colegioaltomonte.cl
SUMMARY:Término del Año Escolar 2020
DESCRIPTION:
URL:https://www.colegioaltomonte.cl/event/termino-del-ano-escolar/
LOCATION:image
CATEGORIES:Básica,General,Media,Prebásica
ATTACH;FMTTYPE=image/png:https://www.colegioaltomonte.cl/wp-content/uploads/2020/06/header-26.png
END:VEVENT
BEGIN:VEVENT
DTSTART;TZID=America/Santiago:20201218T163000
DTEND;TZID=America/Santiago:20201218T170000
DTSTAMP:20260423T125527
CREATED:20201212T194019Z
LAST-MODIFIED:20201212T194019Z
UID:2696-1608309000-1608310800@www.colegioaltomonte.cl
SUMMARY:Charla Admisión
DESCRIPTION:
URL:https://www.colegioaltomonte.cl/event/charla-admision/
CATEGORIES:Básica,General,Media,Prebásica
END:VEVENT
BEGIN:VEVENT
DTSTART;TZID=America/Santiago:20201218T080000
DTEND;TZID=America/Santiago:20201218T170000
DTSTAMP:20260423T125527
CREATED:20201212T193912Z
LAST-MODIFIED:20201212T193912Z
UID:2694-1608278400-1608310800@www.colegioaltomonte.cl
SUMMARY:Término de Academias
DESCRIPTION:
URL:https://www.colegioaltomonte.cl/event/termino-de-academias/
CATEGORIES:Básica,General,Media,Prebásica
END:VEVENT
BEGIN:VEVENT
DTSTART;TZID=America/Santiago:20201215T113000
DTEND;TZID=America/Santiago:20201215T143000
DTSTAMP:20260423T125527
CREATED:20201127T115116Z
LAST-MODIFIED:20201127T115116Z
UID:2452-1608031800-1608042600@www.colegioaltomonte.cl
SUMMARY:Jornada Socioemocional de 8° básico
DESCRIPTION:Jornada Socioemocional de 8° básico y Capacitación en Medidas Sanitarias y Tecnológicas.
URL:https://www.colegioaltomonte.cl/event/jornada-socioemocional-de-8-basico/
CATEGORIES:Básica,General,Media
END:VEVENT
BEGIN:VEVENT
DTSTART;TZID=America/Santiago:20201214T113000
DTEND;TZID=America/Santiago:20201214T143000
DTSTAMP:20260423T125527
CREATED:20201127T115018Z
LAST-MODIFIED:20201127T115018Z
UID:2450-1607945400-1607956200@www.colegioaltomonte.cl
SUMMARY:Jornada Socioemocional de 7° Básico
DESCRIPTION:Jornada Socioemocional de 7° básico y Capacitación en Medidas Sanitarias y Tecnológicas.
URL:https://www.colegioaltomonte.cl/event/jornada-socioemocional-de-7-basico/
CATEGORIES:Básica,General,Media
END:VEVENT
BEGIN:VEVENT
DTSTART;VALUE=DATE:20201211
DTEND;VALUE=DATE:20201212
DTSTAMP:20260423T125527
CREATED:20201110T204555Z
LAST-MODIFIED:20201110T204555Z
UID:2338-1607644800-1607731199@www.colegioaltomonte.cl
SUMMARY:Licenciatura IV° Medio A y B
DESCRIPTION:Ceremonia de Graduación Generación IV° medio 2020.
URL:https://www.colegioaltomonte.cl/event/licenciatura-iv-medio-a-y-b/
CATEGORIES:General,Media
END:VEVENT
BEGIN:VEVENT
DTSTART;TZID=America/Santiago:20201209T113000
DTEND;TZID=America/Santiago:20201209T143000
DTSTAMP:20260423T125527
CREATED:20201127T114833Z
LAST-MODIFIED:20201127T114833Z
UID:2448-1607513400-1607524200@www.colegioaltomonte.cl
SUMMARY:Jornada Socioemocional de II° medio
DESCRIPTION:Jornada Socioemocional de II° medio y Capacitación en Medidas Sanitarias y Tecnológicas.
URL:https://www.colegioaltomonte.cl/event/jornada-socioemocional-de-ii-medio/
CATEGORIES:Básica,General,Media
END:VEVENT
BEGIN:VEVENT
DTSTART;VALUE=DATE:20201208
DTEND;VALUE=DATE:20201209
DTSTAMP:20260423T125527
CREATED:20200927T005949Z
LAST-MODIFIED:20200927T005949Z
UID:1931-1607385600-1607471999@www.colegioaltomonte.cl
SUMMARY:Feriado Día de la Inmaculada Concepción de la Virgen
DESCRIPTION:Feriado religioso.
URL:https://www.colegioaltomonte.cl/event/feriado-dia-de-la-inmaculada-concepcion-de-la-virgen/
CATEGORIES:Básica,General,Media,Prebásica
END:VEVENT
BEGIN:VEVENT
DTSTART;VALUE=DATE:20201207
DTEND;VALUE=DATE:20201208
DTSTAMP:20260423T125527
CREATED:20201110T212404Z
LAST-MODIFIED:20201110T212404Z
UID:2342-1607299200-1607385599@www.colegioaltomonte.cl
SUMMARY:Interferiado
DESCRIPTION:Colegio cerrado.
URL:https://www.colegioaltomonte.cl/event/interferiado/
CATEGORIES:Básica,General,Media,Prebásica
END:VEVENT
BEGIN:VEVENT
DTSTART;TZID=America/Santiago:20201204T160000
DTEND;TZID=America/Santiago:20201204T170000
DTSTAMP:20260423T125527
CREATED:20201117T202740Z
LAST-MODIFIED:20201117T202803Z
UID:2388-1607097600-1607101200@www.colegioaltomonte.cl
SUMMARY:Admisión 2021
DESCRIPTION:Admisión. Charla Rector.
URL:https://www.colegioaltomonte.cl/event/admision-2021/
CATEGORIES:Básica,General,Media,Prebásica
END:VEVENT
BEGIN:VEVENT
DTSTART;TZID=America/Santiago:20201203T090000
DTEND;TZID=America/Santiago:20201203T110000
DTSTAMP:20260423T125527
CREATED:20201127T113902Z
LAST-MODIFIED:20201127T113902Z
UID:2445-1606986000-1606993200@www.colegioaltomonte.cl
SUMMARY:Taller de Liderazgo Juvenil IV° medio A y B
DESCRIPTION:Escala Humana.
URL:https://www.colegioaltomonte.cl/event/taller-de-liderazgo-juvenil-iv-medio-a-y-b/
CATEGORIES:General,Media
END:VEVENT
BEGIN:VEVENT
DTSTART;TZID=America/Santiago:20201126T113000
DTEND;TZID=America/Santiago:20201126T143000
DTSTAMP:20260423T125527
CREATED:20201117T202613Z
LAST-MODIFIED:20201117T202613Z
UID:2386-1606390200-1606401000@www.colegioaltomonte.cl
SUMMARY:Jornada Socioemocional Primero Medio
DESCRIPTION:Capacitación en Medidas Sanitarias. \nActividad Socioemocional.
URL:https://www.colegioaltomonte.cl/event/jornada-socioemocional-primero-medio/
CATEGORIES:General,Media
END:VEVENT
BEGIN:VEVENT
DTSTART;VALUE=DATE:20201118
DTEND;VALUE=DATE:20201119
DTSTAMP:20260423T125527
CREATED:20201025T005951Z
LAST-MODIFIED:20201025T005951Z
UID:2098-1605657600-1605743999@www.colegioaltomonte.cl
SUMMARY:Día del Deporte Prebásica
DESCRIPTION:Día del Deportes Prebásica: Padre/Madre e hijo/a.
URL:https://www.colegioaltomonte.cl/event/dia-del-deporte-prebasica/
CATEGORIES:Básica,General,Media,Prebásica
END:VEVENT
BEGIN:VEVENT
DTSTART;VALUE=DATE:20201111
DTEND;VALUE=DATE:20201112
DTSTAMP:20260423T125527
CREATED:20201025T005818Z
LAST-MODIFIED:20201025T005818Z
UID:2095-1605052800-1605139199@www.colegioaltomonte.cl
SUMMARY:Fotografía IV° medio
DESCRIPTION:Día de fotografías semblanzas IV° medio y colaboradores/as CAM.
URL:https://www.colegioaltomonte.cl/event/fotografia-iv-medio/
CATEGORIES:Básica,General,Media,Prebásica
END:VEVENT
BEGIN:VEVENT
DTSTART;VALUE=DATE:20201104
DTEND;VALUE=DATE:20201105
DTSTAMP:20260423T125527
CREATED:20201014T152828Z
LAST-MODIFIED:20201014T152828Z
UID:2011-1604448000-1604534399@www.colegioaltomonte.cl
SUMMARY:Inicio Clases Presenciales IV° medio
DESCRIPTION:Inicio clases presenciales IV° año medio.
URL:https://www.colegioaltomonte.cl/event/inicio-clases-presenciales-iv-medio/
CATEGORIES:General,Media
END:VEVENT
BEGIN:VEVENT
DTSTART;TZID=America/Santiago:20201103T180000
DTEND;TZID=America/Santiago:20201103T190000
DTSTAMP:20260423T125527
CREATED:20201027T013324Z
LAST-MODIFIED:20201027T013324Z
UID:2118-1604426400-1604430000@www.colegioaltomonte.cl
SUMMARY:Conversatorio: Estrategias de estudio y rutina escolar en el hogar.
DESCRIPTION:Estrategias de estudio y rutina escolar en el hogar. Padres como coeducadores
URL:https://www.colegioaltomonte.cl/event/conversatorio-estrategias-de-estudio-y-rutina-escolar-en-el-hogar/
CATEGORIES:Básica,General,Media,Prebásica
END:VEVENT
BEGIN:VEVENT
DTSTART;VALUE=DATE:20201103
DTEND;VALUE=DATE:20201104
DTSTAMP:20260423T125527
CREATED:20201014T152600Z
LAST-MODIFIED:20201014T152600Z
UID:2009-1604361600-1604447999@www.colegioaltomonte.cl
SUMMARY:Inicio Clases Presenciales III° medio
DESCRIPTION:Inicio clases presenciales III° medio.
URL:https://www.colegioaltomonte.cl/event/inicio-clases-presenciales-iii-medio/
CATEGORIES:General,Media
END:VEVENT
BEGIN:VEVENT
DTSTART;TZID=UTC:20201015T183000
DTEND;TZID=UTC:20201015T193000
DTSTAMP:20260423T125527
CREATED:20200603T135532Z
LAST-MODIFIED:20200603T135532Z
UID:1055-1602786600-1602790200@www.colegioaltomonte.cl
SUMMARY:Reunión Apoderados Iº a IVº Medio
DESCRIPTION:
URL:https://www.colegioaltomonte.cl/event/reunion-apoderados-io-a-ivo-medio-2/
LOCATION:image
CATEGORIES:General,Media
ATTACH;FMTTYPE=image/png:https://www.colegioaltomonte.cl/wp-content/uploads/2020/06/HEADER-25.png
END:VEVENT
BEGIN:VEVENT
DTSTART;VALUE=DATE:20201012
DTEND;VALUE=DATE:20201013
DTSTAMP:20260423T125527
CREATED:20200704T170642Z
LAST-MODIFIED:20200927T003728Z
UID:1435-1602460800-1602547199@www.colegioaltomonte.cl
SUMMARY:Feriado Día del Encuentro de Dos Mundos
DESCRIPTION:
URL:https://www.colegioaltomonte.cl/event/feriado-2/
CATEGORIES:Básica,General,Media,Prebásica
END:VEVENT
END:VCALENDAR