BEGIN:VCALENDAR
VERSION:2.0
PRODID:-//Colegio Altomonte - ECPv6.13.0//NONSGML v1.0//EN
CALSCALE:GREGORIAN
METHOD:PUBLISH
X-WR-CALNAME:Colegio Altomonte
X-ORIGINAL-URL:https://www.colegioaltomonte.cl
X-WR-CALDESC:Eventos para Colegio Altomonte
REFRESH-INTERVAL;VALUE=DURATION:PT1H
X-Robots-Tag:noindex
X-PUBLISHED-TTL:PT1H
BEGIN:VTIMEZONE
TZID:America/Santiago
BEGIN:STANDARD
TZOFFSETFROM:-0300
TZOFFSETTO:-0400
TZNAME:-04
DTSTART:20200405T030000
END:STANDARD
BEGIN:DAYLIGHT
TZOFFSETFROM:-0400
TZOFFSETTO:-0300
TZNAME:-03
DTSTART:20200906T040000
END:DAYLIGHT
END:VTIMEZONE
BEGIN:VEVENT
DTSTART;TZID=America/Santiago:20200717T080000
DTEND;TZID=America/Santiago:20200717T170000
DTSTAMP:20260423T172050
CREATED:20200717T224329Z
LAST-MODIFIED:20200717T224329Z
UID:1621-1594972800-1595005200@www.colegioaltomonte.cl
SUMMARY:Proceso de Admisión 2021: Rendición Prueba de Matemática y Prueba de Historia y Ciencias Sociales
DESCRIPTION:
URL:https://www.colegioaltomonte.cl/event/proceso-de-admision-2021-rendicion-prueba-de-matematica-y-prueba-de-historia-y-ciencias-sociales/
CATEGORIES:General,Media
END:VEVENT
BEGIN:VEVENT
DTSTART;TZID=America/Santiago:20200710T160000
DTEND;TZID=America/Santiago:20200710T170000
DTSTAMP:20260423T172050
CREATED:20200704T170341Z
LAST-MODIFIED:20200704T170341Z
UID:1428-1594396800-1594400400@www.colegioaltomonte.cl
SUMMARY:Charla Admisión Proceso 6°
DESCRIPTION:
URL:https://www.colegioaltomonte.cl/event/charla-admision-proceso-6/
CATEGORIES:Básica,General,Media,Prebásica
END:VEVENT
END:VCALENDAR